Workbook

Sheet SERV ADICIONADOS
A2: Obra | E2: Bancos | G2: B.D.I. | I2: Encargos Sociais
A3: =ORCAMENTO!A3 -> CONCLUSÃO EMEIF "CAETÉ" | E3: =ORCAMENTO!C3 -> SINAPI - 02/2023 - Pará | G3: 28,82% | I3: =ORCAMENTO!E3 -> Desonerado: 0,00%
A4: Serviços Complementares - Orçamento Sintético
A5: Item | B5: Código | C5: Banco | D5: Descrição | E5: Und | F5: Quant. | G5: Valor Unit | H5: Valor Unit com BDI | I5: Total
A6: 2 | D6: MOVIMENTO DE TERRAS PARA FUNDAÇÕES | I6: =SUM(I7:I7) -> 1752.66 | J6: =TRUNC(F6*G6,2) -> 0 | L6: CONVERSOR DE PREÇOS
A7: 2.1 | B7: 93358 | C7: SINAPI | D7: Escavação mecanizada de valas em qualquer terreno até h=2,0 m | E7: m³ | F7: ='MEMORIA DE CÁLCULO ADITIVOS'!F7 -> 18 | G7: =CPU!J57 -> 75.59 | H7: =TRUNC(G7 * (1 + 28.82 / 100), 2) -> 97.37 | I7: =TRUNC(F7 * H7, 2) -> 1752.66 | J7: =TRUNC(F7*G7,2) -> 1360.62
A8: 3 | D8: FUNDAÇÕES | I8: =I9 -> 139815.83 | J8: =TRUNC(F8*G8,2) -> 0 | L8: =1716918.09 -> 1716918.1
A9: 3.1 | D9: ='MEMORIA DE CÁLCULO ADITIVOS'!D10 -> ESTACAS E ESTUTURAS EM CONCRETO ARMADO | I9: =SUM(I10:I11) -> 139815.83 | J9: =TRUNC(F9*G9,2) -> 0 | L9: =1726787.91 -> 1726787.9
A10: 3.1 | B10: 98230 | C10: SINAPI | D10: Estaca escavada mecanicamente com 30 cm de diametro, sem armação | E10: M | F10: ='MEMORIA DE CÁLCULO ADITIVOS'!F11 -> 345 | G10: =CPU!J103 -> 140.85 | H10: =TRUNC(G10 * (1 + 28.82 / 100), 2) -> 181.44 | I10: =TRUNC(F10 * H10, 2) -> 62596.8 | J10: =TRUNC(F10*G10,2) -> 48593.25 | L10: =L8/L9 -> 0.99428429
A11: 3.2 | B11: 104488 | C11: SINAPI | D11: Concreto armado, 25 mpa | E11: m³ | F11: ='MEMORIA DE CÁLCULO ADITIVOS'!F13 -> 21.744 | G11: =CPU!J1784 -> 2756.78 | H11: =TRUNC(G11 * (1 + 28.82 / 100), 2) -> 3551.28 | I11: =TRUNC(F11 * H11, 2) -> 77219.03 | J11: =TRUNC(F11*G11,2) -> 59943.42
A12: 4 | D12: SUPERESTRUTURA | I12: =I13+I15 -> 61042.95 | J12: =TRUNC(F12*G12,2) -> 0
A13: 4.1 | D13: VIGAMENTO, PILARES E LAJES CONVENCIONAIS DO REL. | I13: =I14 -> 10297.25 | J13: =TRUNC(F13*G13,2) -> 0
A14: 18.3.3 | B14: 104487 | C14: SINAPI | D14: COMPOSIÇÃO PARAMÉTRICA PARA EXECUÇÃO DE ESTRUTURAS DE CONCRETO ARMADO, PARA EDIFICAÇÃO HABITACIONAL UNIFAMILIAR TÉRREA (CASA EM EMPREENDIMENTOS), FCK = 25 MPA. AF_11/2022 | E14: m³ | F14: ='MEMORIA DE CÁLCULO ADITIVOS'!F16 -> 2.848 | G14: =2822.85*L10 -> 2806.7154 | H14: =TRUNC(G14 * (1 + 28.82 / 100), 2) -> 3615.61 | I14: =TRUNC(F14 * H14, 2) -> 10297.25 | J14: =TRUNC(F14*G14,2) -> 7993.52
A15: 4.2 | D15: CONCRETO ARMADO - LAJES DE PISO | I15: =I16 -> 50745.7 | J15: =TRUNC(F15*G15,2) -> 0
A16: 4.2.1 | B16: 101963 | C16: SINAPI | D16: LAJE PRÉ-MOLDADA UNIDIRECIONAL, BIAPOIADA, PARA PISO, ENCHIMENTO EM CERÂMICA, VIGOTA CONVENCIONAL, ALTURA TOTAL DA LAJE (ENCHIMENTO+CAPA) = (8+4). AF_11/2020 | E16: m² | F16: ='MEMORIA DE CÁLCULO ADITIVOS'!F19 -> 205 | G16: =193.27*L10 -> 192.16532 | H16: =TRUNC(G16 * (1 + 28.82 / 100), 2) -> 247.54 | I16: =TRUNC(F16 * H16, 2) -> 50745.7 | J16: =TRUNC(F16*G16,2) -> 39393.89
A17: 5 | D17: SISTEMA DE VEDAÇÃO VERTICAL | I17: =SUM(I18:I18) -> 2692.8 | J17: =TRUNC(F17*G17,2) -> 0
A18: 5.1 | B18: 87489 | C18: SINAPI | D18: Alvenaria de vedação de 1/2 vez em tijolos cerâmicos (dimensões nominais: 39x19x09); assentamento em argamassa no traço 1:2:8 (cimento, cal e areia) | E18: m² | F18: ='MEMORIA DE CÁLCULO ADITIVOS'!F22 -> 36 | G18: =CPU!J132 -> 58.07 | H18: =TRUNC(G18 * (1 + 28.82 / 100), 2) -> 74.8 | I18: =TRUNC(F18 * H18, 2) -> 2692.8 | J18: =TRUNC(F18*G18,2) -> 2090.52
A19: 6 | D19: ESQUADRIAS | I19: =I20 -> 37852.44 | J19: =TRUNC(F19*G19,2) -> 0
A20: 6.2 | D20: FERRAGENS E ACESSÓRIOS | I20: =SUM(I21:I22) -> 37852.44 | J20: =TRUNC(F20*G20,2) -> 0
A21: 6.2.1 | B21: 99861 | C21: SINAPI | D21: GRADIL EM FERRO FIXADO EM VÃOS DE JANELAS, FORMADO POR BARRAS CHATAS DE 25X4,8 MM. AF_04/2019 | E21: UN | F21: ='MEMORIA DE CÁLCULO ADITIVOS'!F26 -> 3.05 | G21: =599.99*L10 -> 596.56063 | H21: =TRUNC(G21 * (1 + 28.82 / 100), 2) -> 768.48 | I21: =TRUNC(F21 * H21, 2) -> 2343.86 | J21: =TRUNC(F21*G21,2) -> 1819.5
A22: 6.2.2 | B22: 102363 | C22: SINAPI | D22: ALAMBRADO PARA QUADRA POLIESPORTIVA, ESTRUTURADO POR TUBOS DE ACO GALVANIZADO, (MONTANTES COM DIAMETRO 2", TRAVESSAS E ESCORAS COM DIÂMETRO 1 ¼), COM TELA DE ARAME GALVANIZADO, FIO 12 BWG E MALHA QUADRADA 5X5CM (EXCETO MURETA). AF_03/2021 | E22: UN | F22: ='MEMORIA DE CÁLCULO ADITIVOS'!F30 -> 162.6 | G22: =170.5*L10 -> 169.52547 | H22: =TRUNC(G22 * (1 + 28.82 / 100), 2) -> 218.38 | I22: =TRUNC(F22 * H22, 2) -> 35508.58 | J22: =TRUNC(F22*G22,2) -> 27564.84
A23: 7 | D23: SISTEMAS DE COBERTURA | I23: =SUM(I24:I29) -> 70102.87 | J23: =TRUNC(F23*G23,2) -> 0
A24: 7.1 | B24: 92548 | C24: SINAPI | D24: Fabricação e Instalação de tesoura inteira em madeira não aparelhada, vão de 6m, para telha cerâmica | E24: UN | F24: ='MEMORIA DE CÁLCULO ADITIVOS'!F33 -> 3 | G24: =CPU!J386 -> 1368.69 | H24: =TRUNC(G24 * (1 + 28.82 / 100), 2) -> 1763.14 | I24: =TRUNC(F24 * H24, 2) -> 5289.42 | J24: =TRUNC(F24*G24,2) -> 4106.07
A25: 7.2 | B25: 92540 | C25: SINAPI | D25: Trama de madeira composta por ripas, caibros e terças para telhados de mais que 2 águas para telha cerâmica | E25: m² | F25: ='MEMORIA DE CÁLCULO ADITIVOS'!F35 -> 260.41 | G25: =CPU!J408 -> 80.18 | H25: =TRUNC(G25 * (1 + 28.82 / 100), 2) -> 103.28 | I25: =TRUNC(F25 * H25, 2) -> 26895.14 | J25: =TRUNC(F25*G25,2) -> 20879.67
A26: 7.3 | B26: 40905 | C26: SINAPI | D26: Verniz sintético sobre estrutura de madeira, duas demãos | E26: m² | F26: ='MEMORIA DE CÁLCULO ADITIVOS'!F37 -> 260.41 | G26: =CPU!J422 -> 26.08 | H26: =TRUNC(G26 * (1 + 28.82 / 100), 2) -> 33.59 | I26: =TRUNC(F26 * H26, 2) -> 8747.17 | J26: =TRUNC(F26*G26,2) -> 6791.49
A27: 7.4 | B27: 94446 | C27: SINAPI | D27: Cobertura em telha cerâmica tipo PLAN | E27: m² | F27: ='MEMORIA DE CÁLCULO ADITIVOS'!F39 -> 260.41 | G27: =CPU!J431 -> 50.61 | H27: =TRUNC(G27 * (1 + 28.82 / 100), 2) -> 65.19 | I27: =TRUNC(F27 * H27, 2) -> 16976.12 | J27: =TRUNC(F27*G27,2) -> 13179.35
A28: 7.5 | B28: 94221 | C28: SINAPI | D28: Cumeeira com telha cerâmica emboçada com argamassa traço 1:2:8 | E28: M | F28: ='MEMORIA DE CÁLCULO ADITIVOS'!F41 -> 79 | G28: =CPU!J440 -> 25.96 | H28: =TRUNC(G28 * (1 + 28.82 / 100), 2) -> 33.44 | I28: =TRUNC(F28 * H28, 2) -> 2641.76 | J28: =TRUNC(F28*G28,2) -> 2050.84
A29: 7.6 | B29: 84093 | C29: =C28 -> SINAPI | D29: TABEIRA DE MADEIRA LEI, 1A QUALIDADE, 2,5X30,0CM PARA BEIRAL DE TELHADO | E29: M | F29: ='MEMORIA DE CÁLCULO ADITIVOS'!F43 -> 178 | G29: =41.91*L10 -> 41.670455 | H29: =TRUNC(G29 * (1 + 28.82 / 100), 2) -> 53.67 | I29: =TRUNC(F29 * H29, 2) -> 9553.26 | J29: =TRUNC(F29*G29,2) -> 7417.34
A30: 8 | D30: IMPERMEABILIZAÇÃO | I30: =I31 -> 736.2 | J30: =TRUNC(F30*G30,2) -> 0
A31: 8.1 | B31: 74106/001 | C31: SINAPI | D31: Impermeabilização com tinta betuminosa em fundações, baldrames | E31: m² | F31: ='MEMORIA DE CÁLCULO ADITIVOS'!F46 -> 45 | G31: =CPU!J450 -> 12.7 | H31: =TRUNC(G31 * (1 + 28.82 / 100), 2) -> 16.36 | I31: =TRUNC(F31 * H31, 2) -> 736.2 | J31: =TRUNC(F31*G31,2) -> 571.5
A32: 9 | D32: REVESTIMENTOS INTERNOS E EXTERNOS | I32: =SUM(I33:I36) -> 13154.4 | J32: =TRUNC(F32*G32,2) -> 0
A33: 9.1 | B33: 87878 | C33: SINAPI | D33: Chapisco em parede com argamassa traço - 1:3 (cimento / areia) | E33: m² | F33: ='MEMORIA DE CÁLCULO ADITIVOS'!F49 -> 320.66 | G33: =CPU!J456 -> 5.15 | H33: =TRUNC(G33 * (1 + 28.82 / 100), 2) -> 6.63 | I33: =TRUNC(F33 * H33, 2) -> 2125.97 | J33: =TRUNC(F33*G33,2) -> 1651.39
A34: 9.2 | B34: 87881 | C34: SINAPI | D34: Chapisco em teto com argamassa traço - 1:3 (cimento / areia) | E34: m² | F34: ='MEMORIA DE CÁLCULO ADITIVOS'!F51 -> 9 | G34: =CPU!J463 -> 6.66 | H34: =TRUNC(G34 * (1 + 28.82 / 100), 2) -> 8.57 | I34: =TRUNC(F34 * H34, 2) -> 77.13 | J34: =TRUNC(F34*G34,2) -> 59.94
A35: 9.4 | B35: 87543 | C35: SINAPI | D35: Reboco para paredes internas, externas, vigas, traço 1:4,5 - espessura 1,5 cm | E35: m² | F35: ='MEMORIA DE CÁLCULO ADITIVOS'!F53 -> 320.66 | G35: =CPU!J477 -> 25.79 | H35: =TRUNC(G35 * (1 + 28.82 / 100), 2) -> 33.22 | I35: =TRUNC(F35 * H35, 2) -> 10652.32 | J35: =TRUNC(F35*G35,2) -> 8269.82
A36: 9.5 | B36: 87543 | C36: SINAPI | D36: Reboco de teto, com argamassa traço - 1:2 (cal / areia fina), espessura 1 cm | E36: m² | F36: ='MEMORIA DE CÁLCULO ADITIVOS'!F55 -> 9 | G36: =CPU!J484 -> 25.79 | H36: =TRUNC(G36 * (1 + 28.82 / 100), 2) -> 33.22 | I36: =TRUNC(F36 * H36, 2) -> 298.98 | J36: =TRUNC(F36*G36,2) -> 232.11
A37: 10 | D37: SISTEMAS DE PISOS | I37: =I38 -> 6211.52 | J37: =TRUNC(F37*G37,2) -> 0
A38: 10.1 | D38: PAVIMENTAÇÃO INTERNA | I38: =SUM(I39:I39) -> 6211.52 | J38: =TRUNC(F38*G38,2) -> 0
A39: 10.1.3 | B39: 98679 | C39: SINAPI | D39: Piso cimentado desempenado com acabamento liso e=2,0cm com junta plastica acabada 1,2m | E39: m² | F39: ='MEMORIA DE CÁLCULO ADITIVOS'!F59 -> 112 | G39: =CPU!J537 -> 43.06 | H39: =TRUNC(G39 * (1 + 28.82 / 100), 2) -> 55.46 | I39: =TRUNC(F39 * H39, 2) -> 6211.52 | J39: =TRUNC(F39*G39,2) -> 4822.72
A40: 11 | D40: PINTURAS E ACABAMENTOS | I40: =SUM(I41:I45) -> 12759.06 | J40: =TRUNC(F40*G40,2) -> 0
A41: 11.1 | B41: 96132 | C41: SINAPI | D41: Emassamento de paredes internas com massa PVA, 2 demãos | E41: m² | F41: ='MEMORIA DE CÁLCULO ADITIVOS'!F62 -> 174.6 | G41: =CPU!J590 -> 17.04 | H41: =TRUNC(G41 * (1 + 28.82 / 100), 2) -> 21.95 | I41: =TRUNC(F41 * H41, 2) -> 3832.47 | J41: =TRUNC(F41*G41,2) -> 2975.18
...

Sheet CPU ADITIVOS
C4: Composições Analíticas com Preço Unitário | E4: Bancos | G4: B.D.I. | I4: Encargos Sociais
C5: COMPOSIÇÕES ADITIVO CONCLUSÃO EMEIF "CAETÉ" | E5: SINAPI - 02/2023 - Pará SEDOP - 02/2023 - Pará | G5: 0,0% | I5: Desonerado: embutido nos preços unitário dos insumos de mão de obra, de acordo com as bases.
A6: Composições Analíticas com Preço Unitário
A7: Composições Principais
A8: 1 | B8: Código | C8: Banco | D8: Descrição | E8: Tipo | G8: Und | H8: Quant. | I8: Valor Unit | J8: Total
A9: Composição | B9: 104487 | C9: SINAPI | D9: COMPOSIÇÃO PARAMÉTRICA PARA EXECUÇÃO DE ESTRUTURAS DE CONCRETO ARMADO, PARA EDIFICAÇÃO HABITACIONAL UNIFAMILIAR TÉRREA (CASA EM EMPREENDIMENTOS), FCK = 25 MPA. AF_11/2022 | E9: FUES - FUNDAÇÕES E ESTRUTURAS | G9: m³ | H9: 1 | I9: 2822.85 | J9: 2822.85
A10: Composição Auxiliar | B10: 103672 | C10: SINAPI | D10: CONCRETAGEM DE PILARES, FCK = 25 MPA, COM USO DE BOMBA - LANÇAMENTO, ADENSAMENTO E ACABAMENTO. AF_02/2022 | E10: FUES - FUNDAÇÕES E ESTRUTURAS | G10: m³ | H10: 0.1445 | I10: 838.34 | J10: 121.14
A11: Composição Auxiliar | B11: 103675 | C11: SINAPI | D11: CONCRETAGEM DE VIGAS E LAJES, FCK=25 MPA, PARA LAJES MACIÇAS OU NERVURADAS COM USO DE BOMBA - LANÇAMENTO, ADENSAMENTO E ACABAMENTO. AF_02/2022 | E11: FUES - FUNDAÇÕES E ESTRUTURAS | G11: m³ | H11: 0.7623 | I11: 838.74 | J11: 639.37
A12: Composição Auxiliar | B12: 92419 | C12: SINAPI | D12: MONTAGEM E DESMONTAGEM DE FÔRMA DE PILARES RETANGULARES E ESTRUTURAS SIMILARES, PÉ-DIREITO SIMPLES, EM CHAPA DE MADEIRA COMPENSADA RESINADA, 4 UTILIZAÇÕES. AF_09/2020 | E12: FUES - FUNDAÇÕES E ESTRUTURAS | G12: m² | H12: 1.5027 | I12: 84.46 | J12: 126.91
A13: Composição Auxiliar | B13: 92455 | C13: SINAPI | D13: MONTAGEM E DESMONTAGEM DE FÔRMA DE VIGA, ESCORAMENTO COM GARFO DE MADEIRA, PÉ-DIREITO SIMPLES, EM CHAPA DE MADEIRA RESINADA, 4 UTILIZAÇÕES. AF_09/2020 | E13: FUES - FUNDAÇÕES E ESTRUTURAS | G13: m² | H13: 2.0916 | I13: 160.89 | J13: 336.51
A14: Composição Auxiliar | B14: 92514 | C14: SINAPI | D14: MONTAGEM E DESMONTAGEM DE FÔRMA DE LAJE MACIÇA, PÉ-DIREITO SIMPLES, EM CHAPA DE MADEIRA COMPENSADA RESINADA, 4 UTILIZAÇÕES. AF_09/2020 | E14: FUES - FUNDAÇÕES E ESTRUTURAS | G14: m² | H14: 5.0823 | I14: 51.7 | J14: 262.75
A15: Composição Auxiliar | B15: 92759 | C15: SINAPI | D15: ARMAÇÃO DE PILAR OU VIGA DE ESTRUTURA CONVENCIONAL DE CONCRETO ARMADO UTILIZANDO AÇO CA-60 DE 5,0 MM - MONTAGEM. AF_06/2022 | E15: FUES - FUNDAÇÕES E ESTRUTURAS | G15: KG | H15: 2.6967 | I15: 14.81 | J15: 39.93
A16: Composição Auxiliar | B16: 92760 | C16: SINAPI | D16: ARMAÇÃO DE PILAR OU VIGA DE ESTRUTURA CONVENCIONAL DE CONCRETO ARMADO UTILIZANDO AÇO CA-50 DE 6,3 MM - MONTAGEM. AF_06/2022 | E16: FUES - FUNDAÇÕES E ESTRUTURAS | G16: KG | H16: 1.0504 | I16: 14.34 | J16: 15.06
A17: Composição Auxiliar | B17: 92761 | C17: SINAPI | D17: ARMAÇÃO DE PILAR OU VIGA DE ESTRUTURA CONVENCIONAL DE CONCRETO ARMADO UTILIZANDO AÇO CA-50 DE 8,0 MM - MONTAGEM. AF_06/2022 | E17: FUES - FUNDAÇÕES E ESTRUTURAS | G17: KG | H17: 0.554 | I17: 13.76 | J17: 7.62
A18: Composição Auxiliar | B18: 92762 | C18: SINAPI | D18: ARMAÇÃO DE PILAR OU VIGA DE ESTRUTURA CONVENCIONAL DE CONCRETO ARMADO UTILIZANDO AÇO CA-50 DE 10,0 MM - MONTAGEM. AF_06/2022 | E18: FUES - FUNDAÇÕES E ESTRUTURAS | G18: KG | H18: 19.8152 | I18: 12.41 | J18: 245.9
A19: Composição Auxiliar | B19: 92763 | C19: SINAPI | D19: ARMAÇÃO DE PILAR OU VIGA DE ESTRUTURA CONVENCIONAL DE CONCRETO ARMADO UTILIZANDO AÇO CA-50 DE 12,5 MM - MONTAGEM. AF_06/2022 | E19: FUES - FUNDAÇÕES E ESTRUTURAS | G19: KG | H19: 4.6157 | I19: 10.53 | J19: 48.6
A20: Composição Auxiliar | B20: 92768 | C20: SINAPI | D20: ARMAÇÃO DE LAJE DE ESTRUTURA CONVENCIONAL DE CONCRETO ARMADO UTILIZANDO AÇO CA-60 DE 5,0 MM - MONTAGEM. AF_06/2022 | E20: FUES - FUNDAÇÕES E ESTRUTURAS | G20: KG | H20: 8.0102 | I20: 14.38 | J20: 115.18
... A29: Composição Auxiliar | B29: 96557 | C29: SINAPI | D29: CONCRETAGEM DE BLOCOS DE COROAMENTO E VIGAS BALDRAMES, FCK 30 MPA, COM USO DE BOMBA  LANÇAMENTO, ADENSAMENTO E ACABAMENTO. AF_06/2017 | E29: FUES - FUNDAÇÕES E ESTRUTURAS | G29: m³ | H29: 0.0931 | I29: 880.83 | J29: 82
E30: MO sem LS => | F30: 435.31 | G30: LS => | H30: 0 | I30: MO com LS => | J30: 435.31
E31: Valor do BDI => | F31: 0 | H31: Valor com BDI => | J31: 2822.85
A33: 2 | B33: Código | C33: Banco | D33: Descrição | E33: Tipo | G33: Und | H33: Quant. | I33: Valor Unit | J33: Total
A34: Composição | B34: 101963 | C34: SINAPI | D34: LAJE PRÉ-MOLDADA UNIDIRECIONAL, BIAPOIADA, PARA PISO, ENCHIMENTO EM CERÂMICA, VIGOTA CONVENCIONAL, ALTURA TOTAL DA LAJE (ENCHIMENTO+CAPA) = (8+4). AF_11/2020 | E34: FUES - FUNDAÇÕES E ESTRUTURAS | G34: m² | H34: 1 | I34: 193.27 | J34: 193.27
A35: Composição Auxiliar | B35: 103674 | C35: SINAPI | D35: CONCRETAGEM DE VIGAS E LAJES, FCK=25 MPA, PARA LAJES PREMOLDADAS COM USO DE BOMBA - LANÇAMENTO, ADENSAMENTO E ACABAMENTO. AF_02/2022 | E35: FUES - FUNDAÇÕES E ESTRUTURAS | G35: m³ | H35: 0.054 | I35: 856.12 | J35: 46.23
A36: Composição Auxiliar | B36: 88262 | C36: SINAPI | D36: CARPINTEIRO DE FORMAS COM ENCARGOS COMPLEMENTARES | E36: SEDI - SERVIÇOS DIVERSOS | G36: H | H36: 0.501 | I36: 23.61 | J36: 11.82
A37: Composição Auxiliar | B37: 88316 | C37: SINAPI | D37: SERVENTE COM ENCARGOS COMPLEMENTARES | E37: SEDI - SERVIÇOS DIVERSOS | G37: H | H37: 0.354 | I37: 19.22 | J37: 6.8
A38: Composição Auxiliar | B38: 92273 | C38: SINAPI | D38: FABRICAÇÃO DE ESCORAS DO TIPO PONTALETE, EM MADEIRA, PARA PÉ-DIREITO SIMPLES. AF_09/2020 | E38: FUES - FUNDAÇÕES E ESTRUTURAS | G38: M | H38: 0.97 | I38: 18.22 | J38: 17.67
A39: Composição Auxiliar | B39: 92767 | C39: SINAPI | D39: ARMAÇÃO DE LAJE DE ESTRUTURA CONVENCIONAL DE CONCRETO ARMADO UTILIZANDO AÇO CA-60 DE 4,2 MM - MONTAGEM. AF_06/2022 | E39: FUES - FUNDAÇÕES E ESTRUTURAS | G39: KG | H39: 1.211 | I39: 16.06 | J39: 19.44
A40: Insumo | B40: 00003743 | C40: SINAPI | D40: LAJE PRE-MOLDADA CONVENCIONAL (LAJOTAS + VIGOTAS) PARA PISO, UNIDIRECIONAL, SOBRECARGA DE 200 KG/M2, VAO ATE 3,50 M (SEM COLOCACAO) | E40: Material | G40: m² | H40: 1 | I40: 57.13 | J40: 57.13
A41: Insumo | B41: 00006193 | C41: SINAPI | D41: TABUA NAO APARELHADA *2,5 X 20* CM, EM MACARANDUBA, ANGELIM OU EQUIVALENTE DA REGIAO - BRUTA | E41: Material | G41: M | H41: 1.87 | I41: 17.66 | J41: 33.02
A42: Insumo | B42: 00040304 | C42: SINAPI | D42: PREGO DE ACO POLIDO COM CABECA DUPLA 17 X 27 (2 1/2 X 11) | E42: Material | G42: KG | H42: 0.04 | I42: 29.1 | J42: 1.16
E43: MO sem LS => | F43: 21.03 | G43: LS => | H43: 0 | I43: MO com LS => | J43: 21.03
E44: Valor do BDI => | F44: 0 | H44: Valor com BDI => | J44: 193.27
A46: 3 | B46: Código | C46: Banco | D46: Descrição | E46: Tipo | G46: Und | H46: Quant. | I46: Valor Unit | J46: Total
A47: Composição | B47: 99861 | C47: SINAPI | D47: GRADIL EM FERRO FIXADO EM VÃOS DE JANELAS, FORMADO POR BARRAS CHATAS DE 25X4,8 MM. AF_04/2019 | E47: ESQV - ESQUADRIAS/FERRAGENS/VIDROS | G47: m² | H47: 1 | I47: 599.99 | J47: 599.99
A48: Composição Auxiliar | B48: 88251 | C48: SINAPI | D48: AUXILIAR DE SERRALHEIRO COM ENCARGOS COMPLEMENTARES | E48: SEDI - SERVIÇOS DIVERSOS | G48: H | H48: 6.965 | I48: 19.69 | J48: 137.14
A49: Composição Auxiliar | B49: 88315 | C49: SINAPI | D49: SERRALHEIRO COM ENCARGOS COMPLEMENTARES | E49: SEDI - SERVIÇOS DIVERSOS | G49: H | H49: 8.479 | I49: 23.79 | J49: 201.71
A50: Composição Auxiliar | B50: 88629 | C50: SINAPI | D50: ARGAMASSA TRAÇO 1:3 (EM VOLUME DE CIMENTO E AREIA MÉDIA ÚMIDA), PREPARO MANUAL. AF_08/2019 | E50: SEDI - SERVIÇOS DIVERSOS | G50: m³ | H50: 0.008 | I50: 869.53 | J50: 6.95
A51: Insumo | B51: 00000565 | C51: SINAPI | D51: BARRA DE ACO CHATO, RETANGULAR, 25,4 MM X 4,76 MM (L X E), 1,73 KG/M | E51: Material | G51: M | H51: 9.17 | I51: 18.26 | J51: 167.44
A52: Insumo | B52: 00004777 | C52: SINAPI | D52: CANTONEIRA ACO ABAS IGUAIS (QUALQUER BITOLA), ESPESSURA ENTRE 1/8" E 1/4" | E52: Material | G52: KG | H52: 7.544 | I52: 10.69 | J52: 80.64
A53: Insumo | B53: 00011002 | C53: SINAPI | D53: ELETRODO REVESTIDO AWS - E6013, DIAMETRO IGUAL A 2,50 MM | E53: Material | G53: KG | H53: 0.115 | I53: 53.19 | J53: 6.11
...

Sheet MEMORIA DE CÁLCULO ADITIVOS
A2: Obra | E2: Bancos
A3: =ORCAMENTO!A3 -> CONCLUSÃO EMEIF "CAETÉ" | E3: =ORCAMENTO!C3 -> SINAPI - 02/2023 - Pará
A4: Serviços Complementares - Memória de Cálculo
A5: Item | B5: Código | C5: Banco | D5: Descrição | E5: Und | F5: Quant.
A6: 2 | D6: MOVIMENTO DE TERRAS PARA FUNDAÇÕES
A7: 2.1 | B7: 93358 | C7: SINAPI | D7: Escavação mecanizada de valas em qualquer terreno até h=2,0 m | E7: m³ | F7: 18
D8: Escavação para construção da cisterna: 2,00x3,00x3,00 = 18,00 m³
A9: 3 | D9: FUNDAÇÕES
A10: 3.1 | D10: ESTACAS E ESTUTURAS EM CONCRETO ARMADO
A11: 3.1.1 | B11: 98230 | C11: SINAPI | D11: Estaca escavada mecanicamente com 30 cm de diametro, sem armação | E11: M | F11: =72+156+180-63 -> 345
D12: 01. Estacas Reservatório Elevado: 8 x 9 = 72 m 02. Estacas Passarela: 52 x 3 = 156 m 03. Estacas Trapiche: 9 x 20 = 180 m 04. Excluindo contratadas inicialmente: 63 m
A13: 3.1.2 | B13: 104488 | C13: SINAPI | D13: Concreto armado, 25 mpa | E13: m³ | F13: =7.62+0.864+3.6+1.125+7.095+5.36-3.92 -> 21.744
D14: 01. Blocos ( 50 x 50 x 50) x 61 unid = 7,62 m³ 02. Cintamento reservatório elevado (20 x 40): = 0,20 x 0,40 x 10,80 m = 0,864 m³ 03. Cisterna: 3,60 m³ 04. Vigas de cintamento trapiche: 1,125 m³ 05. Viga de piso passarela e trapiche: 7,095 m³ 06. Pilares: 5,36 m³ 07. Contratado Inicialmente: 3,92 m³
A15: 4.1 | D15: VIGAMENTO, PILARES E LAJES CONVENCIONAIS
A16: 18.3.3 | B16: 104487 | C16: SINAPI | D16: COMPOSIÇÃO PARAMÉTRICA PARA EXECUÇÃO DE ESTRUTURAS DE CONCRETO ARMADO, PARA EDIFICAÇÃO HABITACIONAL UNIFAMILIAR TÉRREA (CASA EM EMPREENDIMENTOS), FCK = 25 MPA. AF_11/2022 | E16: m³ | F16: =1.728+2.125+3.27+1.125-5.4 -> 2.848
D17: 01. Cintamento reservatório elevado (20 x 40): = 0,20 x 0,40 x 10,80 m x 2 un= 1,728 m³ 02. Pilares reservatório elevado (25 x 25): = 0,25 x 0,25 x 8,50 x 4 un = 2,125 m³ 03. Lajes de piso (3,30 x 3,30): 3,30 x 3,30 x 0,10 x 3 un = 3,27 m³ 04. Vigas de piso trapiche: 1,125 m³ 05. Excluindo contratado inicialmente: 5,40 m³
A18: 4.2 | D18: =ORCDET!D15 -> CONCRETO ARMADO - LAJES DE PISO
A19: 4.2.1 | B19: 101963 | C19: SINAPI | D19: LAJE PRÉ-MOLDADA UNIDIRECIONAL, BIAPOIADA, PARA PISO, ENCHIMENTO EM CERÂMICA, VIGOTA CONVENCIONAL, ALTURA TOTAL DA LAJE (ENCHIMENTO+CAPA) = (8+4). AF_11/2020 | E19: m² | F19: 205
D20: 01. Passarela e Trapiche: 2,2 x 75,00 + 30,00 = 205,00 m²
A21: 5 | D21: SISTEMA DE VEDAÇÃO VERTICAL
A22: 5.1 | B22: 87489 | C22: SINAPI | D22: Alvenaria de vedação de 1/2 vez em tijolos cerâmicos (dimensões nominais: 39x19x09); assentamento em argamassa no traço 1:2:8 (cimento, cal e areia) | E22: m² | F22: 36
D23: 01. Paredes Reservatório Elevado: 3,00 x 3,00 x 4 unid
A24: 6 | D24: ESQUADRIAS
A25: 6.2 | D25: FERRAGENS E ACESSÓRIOS
A26: 6.2.1 | B26: 99861 | C26: SINAPI | D26: GRADIL EM FERRO FIXADO EM VÃOS DE JANELAS, FORMADO POR BARRAS CHATAS DE 25X4,8 MM. AF_04/2019 | E26: UN | F26: =F27+F28+F29 -> 3.05
D27: 01. Portões Reservatório Elevado (1,00 x 2,10) e Ventilação Lateral (1,20 x 0,80) | F27: 3.05
D28: 02. Grades Bloco de Serviços: 22,15 m²
D29: 02. Grades Bloco Administrativo: 18,75 m²
A30: 6.2.2 | B30: 102363 | C30: SINAPI | D30: ALAMBRADO PARA QUADRA POLIESPORTIVA, ESTRUTURADO POR TUBOS DE ACO GALVANIZADO, (MONTANTES COM DIAMETRO 2", TRAVESSAS E ESCORAS COM DIÂMETRO 1 ¼), COM TELA DE ARAME GALVANIZADO, FIO 12 BWG E MALHA QUADRADA 5X5CM (EXCETO MURETA). AF_03/2021 | E30: UN | F30: 162.6
D31: 01. Guarda-Corpo elevado: 1,00 x 3,00 x 8 unid = 24,00 m 02. Passarelas e Trapiche: 150,00 + 20 = 170 m
A32: 7 | D32: SISTEMAS DE COBERTURA
A33: 7.1 | B33: 92548 | C33: SINAPI | D33: Fabricação e Instalação de tesoura inteira em madeira não aparelhada, vão de 6m, para telha cerâmica | E33: UN | F33: 3
D34: 01. Trapiche em Madeira: 35,41 m² x 3 unidades
A35: 7.2 | B35: 92540 | C35: SINAPI | D35: Trama de madeira composta por ripas, caibros e terças para telhados de mais que 2 águas para telha cerâmica | E35: m² | F35: 260.41
D36: 01. Passarela: 3,00 x 75,00 = 225,00 m² 02. Trapiche em Madeira: 35,41 m²
A37: 7.3 | B37: 40905 | C37: SINAPI | D37: Verniz sintético sobre estrutura de madeira, duas demãos | E37: m² | F37: 260.41
D38: 01. Passarela: 3,00 x 75,00 = 225,00 m² 02. Trapiche em Madeira: 35,41 m²
A39: 7.4 | B39: 94446 | C39: SINAPI | D39: Cobertura em telha cerâmica tipo PLAN | E39: m² | F39: 260.41
D40: 01. Passarela: 3,00 x 75,00 = 225,00 m² 02. Trapiche em Madeira: 35,41 m²
A41: 7.5 | B41: 94221 | C41: SINAPI | D41: Cumeeira com telha cerâmica emboçada com argamassa traço 1:2:8 | E41: M | F41: 79
...

Sheet ORCAMENTO
A2: Obra | C2: Bancos | D2: B.D.I. | E2: Encargos Sociais
A3: CONCLUSÃO EMEIF "CAETÉ" | C3: SINAPI - 02/2023 - Pará | D3: =TRUNC(BDI!K37/100,4) -> 0.2882 | E3: Desonerado: 0,00%
A4: Planilha Orçamentária Resumida
A5: Item | B5: Descrição | E5: Total
A6: 2 | B6: MOVIMENTO DE TERRAS PARA FUNDAÇÕES | E6: =ORCDET!I6 -> 1752.66
A7: 3 | B7: FUNDAÇÕES | E7: =ORCDET!I8 -> 139815.83
A8: 4 | B8: SUPERESTRUTURA | E8: =ORCDET!I12 -> 61042.95
A9: 5 | B9: SISTEMA DE VEDAÇÃO VERTICAL | E9: =ORCDET!I17 -> 2692.8
A10: 6 | B10: ESQUADRIAS | E10: =ORCDET!I19 -> 37852.44
A11: 7 | B11: SISTEMAS DE COBERTURA | E11: =ORCDET!I23 -> 70102.87
A12: 8 | B12: IMPERMEABILIZAÇÃO | E12: =ORCDET!I30 -> 736.2
A13: 9 | B13: REVESTIMENTOS INTERNOS E EXTERNOS | E13: =ORCDET!I32 -> 13154.4
A14: 10 | B14: SISTEMAS DE PISOS | E14: =ORCDET!I37 -> 6211.52
A15: 11 | B15: PINTURAS E ACABAMENTOS | E15: =ORCDET!I40 -> 12759.06
A16: 12 | B16: INSTALAÇÕES HIDRÁULICAS | E16: =ORCDET!I46 -> 47234.88
A17: 15 | B17: SISTEMA DE PROTEÇÃO CONTRA INCÊNCIO | E17: =ORCDET!I61 -> 357.92
A18: 16 | B18: INSTALAÇÕES ELÉTRICAS | E18: =ORCDET!I66 -> 31025.6
A19: 19 | B19: SERVIÇOS FINAIS | E19: =ORCDET!I87 -> 267.68
B21: ANANINDEUA(PA), 16 DE JUNHO DE 2025 | D21: Total sem BDI | E21: =ORCDET!H90 -> 314049.96
D22: Total do BDI | E22: =ORCDET!H91 -> 110956.85
D23: Total Geral | E23: =SUM(E6:E19) -> 425006.81
B25: RIOL - Serviços de Construções LTDA.
B26: CNPJ: 09.335.585/0001-75
E31: Percentual
E32: Indice

Sheet ORCDET
A2: Obra | E2: Bancos | G2: B.D.I. | I2: Encargos Sociais
A3: =ORCAMENTO!A3 -> CONCLUSÃO EMEIF "CAETÉ" | E3: =ORCAMENTO!C3 -> SINAPI - 02/2023 - Pará | G3: 28,82% | I3: =ORCAMENTO!E3 -> Desonerado: 0,00%
A4: Serviços Complementares - Orçamento Sintético
A5: Item | B5: Código | C5: Banco | D5: Descrição | E5: Und | F5: Quant. | G5: Valor Unit | H5: Valor Unit com BDI | I5: Total
A6: 2 | D6: MOVIMENTO DE TERRAS PARA FUNDAÇÕES | I6: =SUM(I7:I7) -> 1752.66 | J6: =TRUNC(F6*G6,2) -> 0 | L6: CONVERSOR DE PREÇOS
A7: 2.1 | B7: 93358 | C7: SINAPI | D7: Escavação mecanizada de valas em qualquer terreno até h=2,0 m | E7: m³ | F7: ='MEMORIA DE CÁLCULO ADITIVOS'!F7 -> 18 | G7: =CPU!J57 -> 75.59 | H7: =TRUNC(G7 * (1 + 28.82 / 100), 2) -> 97.37 | I7: =TRUNC(F7 * H7, 2) -> 1752.66 | J7: =TRUNC(F7*G7,2) -> 1360.62
A8: 3 | D8: FUNDAÇÕES | I8: =I9 -> 139815.83 | J8: =TRUNC(F8*G8,2) -> 0 | L8: =1716918.09 -> 1716918.1
A9: 3.1 | D9: ='MEMORIA DE CÁLCULO ADITIVOS'!D10 -> ESTACAS E ESTUTURAS EM CONCRETO ARMADO | I9: =SUM(I10:I11) -> 139815.83 | J9: =TRUNC(F9*G9,2) -> 0 | L9: =1726787.91 -> 1726787.9
A10: 3.1 | B10: 98230 | C10: SINAPI | D10: Estaca escavada mecanicamente com 30 cm de diametro, sem armação | E10: M | F10: ='MEMORIA DE CÁLCULO ADITIVOS'!F11 -> 345 | G10: =CPU!J103 -> 140.85 | H10: =TRUNC(G10 * (1 + 28.82 / 100), 2) -> 181.44 | I10: =TRUNC(F10 * H10, 2) -> 62596.8 | J10: =TRUNC(F10*G10,2) -> 48593.25 | L10: =L8/L9 -> 0.99428429
A11: 3.2 | B11: 104488 | C11: SINAPI | D11: Concreto armado, 25 mpa | E11: m³ | F11: ='MEMORIA DE CÁLCULO ADITIVOS'!F13 -> 21.744 | G11: =CPU!J1784 -> 2756.78 | H11: =TRUNC(G11 * (1 + 28.82 / 100), 2) -> 3551.28 | I11: =TRUNC(F11 * H11, 2) -> 77219.03 | J11: =TRUNC(F11*G11,2) -> 59943.42
A12: 4 | D12: SUPERESTRUTURA | I12: =I13+I15 -> 61042.95 | J12: =TRUNC(F12*G12,2) -> 0
A13: 4.1 | D13: VIGAMENTO, PILARES E LAJES CONVENCIONAIS DO REL. | I13: =I14 -> 10297.25 | J13: =TRUNC(F13*G13,2) -> 0
A14: 18.3.3 | B14: 104487 | C14: SINAPI | D14: COMPOSIÇÃO PARAMÉTRICA PARA EXECUÇÃO DE ESTRUTURAS DE CONCRETO ARMADO, PARA EDIFICAÇÃO HABITACIONAL UNIFAMILIAR TÉRREA (CASA EM EMPREENDIMENTOS), FCK = 25 MPA. AF_11/2022 | E14: m³ | F14: ='MEMORIA DE CÁLCULO ADITIVOS'!F16 -> 2.848 | G14: =2822.85*L10 -> 2806.7154 | H14: =TRUNC(G14 * (1 + 28.82 / 100), 2) -> 3615.61 | I14: =TRUNC(F14 * H14, 2) -> 10297.25 | J14: =TRUNC(F14*G14,2) -> 7993.52
A15: 4.2 | D15: CONCRETO ARMADO - LAJES DE PISO | I15: =I16 -> 50745.7 | J15: =TRUNC(F15*G15,2) -> 0
A16: 4.2.1 | B16: 101963 | C16: SINAPI | D16: LAJE PRÉ-MOLDADA UNIDIRECIONAL, BIAPOIADA, PARA PISO, ENCHIMENTO EM CERÂMICA, VIGOTA CONVENCIONAL, ALTURA TOTAL DA LAJE (ENCHIMENTO+CAPA) = (8+4). AF_11/2020 | E16: m² | F16: ='MEMORIA DE CÁLCULO ADITIVOS'!F19 -> 205 | G16: =193.27*L10 -> 192.16532 | H16: =TRUNC(G16 * (1 + 28.82 / 100), 2) -> 247.54 | I16: =TRUNC(F16 * H16, 2) -> 50745.7 | J16: =TRUNC(F16*G16,2) -> 39393.89
A17: 5 | D17: SISTEMA DE VEDAÇÃO VERTICAL | I17: =SUM(I18:I18) -> 2692.8 | J17: =TRUNC(F17*G17,2) -> 0
A18: 5.1 | B18: 87489 | C18: SINAPI | D18: Alvenaria de vedação de 1/2 vez em tijolos cerâmicos (dimensões nominais: 39x19x09); assentamento em argamassa no traço 1:2:8 (cimento, cal e areia) | E18: m² | F18: ='MEMORIA DE CÁLCULO ADITIVOS'!F22 -> 36 | G18: =CPU!J132 -> 58.07 | H18: =TRUNC(G18 * (1 + 28.82 / 100), 2) -> 74.8 | I18: =TRUNC(F18 * H18, 2) -> 2692.8 | J18: =TRUNC(F18*G18,2) -> 2090.52
A19: 6 | D19: ESQUADRIAS | I19: =I20 -> 37852.44 | J19: =TRUNC(F19*G19,2) -> 0
A20: 6.2 | D20: FERRAGENS E ACESSÓRIOS | I20: =SUM(I21:I22) -> 37852.44 | J20: =TRUNC(F20*G20,2) -> 0
A21: 6.2.1 | B21: 99861 | C21: SINAPI | D21: GRADIL EM FERRO FIXADO EM VÃOS DE JANELAS, FORMADO POR BARRAS CHATAS DE 25X4,8 MM. AF_04/2019 | E21: UN | F21: ='MEMORIA DE CÁLCULO ADITIVOS'!F26 -> 3.05 | G21: =599.99*L10 -> 596.56063 | H21: =TRUNC(G21 * (1 + 28.82 / 100), 2) -> 768.48 | I21: =TRUNC(F21 * H21, 2) -> 2343.86 | J21: =TRUNC(F21*G21,2) -> 1819.5
A22: 6.2.2 | B22: 102363 | C22: SINAPI | D22: ALAMBRADO PARA QUADRA POLIESPORTIVA, ESTRUTURADO POR TUBOS DE ACO GALVANIZADO, (MONTANTES COM DIAMETRO 2", TRAVESSAS E ESCORAS COM DIÂMETRO 1 ¼), COM TELA DE ARAME GALVANIZADO, FIO 12 BWG E MALHA QUADRADA 5X5CM (EXCETO MURETA). AF_03/2021 | E22: UN | F22: ='MEMORIA DE CÁLCULO ADITIVOS'!F30 -> 162.6 | G22: =170.5*L10 -> 169.52547 | H22: =TRUNC(G22 * (1 + 28.82 / 100), 2) -> 218.38 | I22: =TRUNC(F22 * H22, 2) -> 35508.58 | J22: =TRUNC(F22*G22,2) -> 27564.84
A23: 7 | D23: SISTEMAS DE COBERTURA | I23: =SUM(I24:I29) -> 70102.87 | J23: =TRUNC(F23*G23,2) -> 0
A24: 7.1 | B24: 92548 | C24: SINAPI | D24: Fabricação e Instalação de tesoura inteira em madeira não aparelhada, vão de 6m, para telha cerâmica | E24: UN | F24: ='MEMORIA DE CÁLCULO ADITIVOS'!F33 -> 3 | G24: =CPU!J386 -> 1368.69 | H24: =TRUNC(G24 * (1 + 28.82 / 100), 2) -> 1763.14 | I24: =TRUNC(F24 * H24, 2) -> 5289.42 | J24: =TRUNC(F24*G24,2) -> 4106.07
A25: 7.2 | B25: 92540 | C25: SINAPI | D25: Trama de madeira composta por ripas, caibros e terças para telhados de mais que 2 águas para telha cerâmica | E25: m² | F25: ='MEMORIA DE CÁLCULO ADITIVOS'!F35 -> 260.41 | G25: =CPU!J408 -> 80.18 | H25: =TRUNC(G25 * (1 + 28.82 / 100), 2) -> 103.28 | I25: =TRUNC(F25 * H25, 2) -> 26895.14 | J25: =TRUNC(F25*G25,2) -> 20879.67
A26: 7.3 | B26: 40905 | C26: SINAPI | D26: Verniz sintético sobre estrutura de madeira, duas demãos | E26: m² | F26: ='MEMORIA DE CÁLCULO ADITIVOS'!F37 -> 260.41 | G26: =CPU!J422 -> 26.08 | H26: =TRUNC(G26 * (1 + 28.82 / 100), 2) -> 33.59 | I26: =TRUNC(F26 * H26, 2) -> 8747.17 | J26: =TRUNC(F26*G26,2) -> 6791.49
A27: 7.4 | B27: 94446 | C27: SINAPI | D27: Cobertura em telha cerâmica tipo PLAN | E27: m² | F27: ='MEMORIA DE CÁLCULO ADITIVOS'!F39 -> 260.41 | G27: =CPU!J431 -> 50.61 | H27: =TRUNC(G27 * (1 + 28.82 / 100), 2) -> 65.19 | I27: =TRUNC(F27 * H27, 2) -> 16976.12 | J27: =TRUNC(F27*G27,2) -> 13179.35
A28: 7.5 | B28: 94221 | C28: SINAPI | D28: Cumeeira com telha cerâmica emboçada com argamassa traço 1:2:8 | E28: M | F28: ='MEMORIA DE CÁLCULO ADITIVOS'!F41 -> 79 | G28: =CPU!J440 -> 25.96 | H28: =TRUNC(G28 * (1 + 28.82 / 100), 2) -> 33.44 | I28: =TRUNC(F28 * H28, 2) -> 2641.76 | J28: =TRUNC(F28*G28,2) -> 2050.84
A29: 7.6 | B29: 84093 | C29: =C28 -> SINAPI | D29: TABEIRA DE MADEIRA LEI, 1A QUALIDADE, 2,5X30,0CM PARA BEIRAL DE TELHADO | E29: M | F29: ='MEMORIA DE CÁLCULO ADITIVOS'!F43 -> 178 | G29: =41.91*L10 -> 41.670455 | H29: =TRUNC(G29 * (1 + 28.82 / 100), 2) -> 53.67 | I29: =TRUNC(F29 * H29, 2) -> 9553.26 | J29: =TRUNC(F29*G29,2) -> 7417.34
A30: 8 | D30: IMPERMEABILIZAÇÃO | I30: =I31 -> 736.2 | J30: =TRUNC(F30*G30,2) -> 0
A31: 8.1 | B31: 74106/001 | C31: SINAPI | D31: Impermeabilização com tinta betuminosa em fundações, baldrames | E31: m² | F31: ='MEMORIA DE CÁLCULO ADITIVOS'!F46 -> 45 | G31: =CPU!J450 -> 12.7 | H31: =TRUNC(G31 * (1 + 28.82 / 100), 2) -> 16.36 | I31: =TRUNC(F31 * H31, 2) -> 736.2 | J31: =TRUNC(F31*G31,2) -> 571.5
A32: 9 | D32: REVESTIMENTOS INTERNOS E EXTERNOS | I32: =SUM(I33:I36) -> 13154.4 | J32: =TRUNC(F32*G32,2) -> 0
A33: 9.1 | B33: 87878 | C33: SINAPI | D33: Chapisco em parede com argamassa traço - 1:3 (cimento / areia) | E33: m² | F33: ='MEMORIA DE CÁLCULO ADITIVOS'!F49 -> 320.66 | G33: =CPU!J456 -> 5.15 | H33: =TRUNC(G33 * (1 + 28.82 / 100), 2) -> 6.63 | I33: =TRUNC(F33 * H33, 2) -> 2125.97 | J33: =TRUNC(F33*G33,2) -> 1651.39
A34: 9.2 | B34: 87881 | C34: SINAPI | D34: Chapisco em teto com argamassa traço - 1:3 (cimento / areia) | E34: m² | F34: ='MEMORIA DE CÁLCULO ADITIVOS'!F51 -> 9 | G34: =CPU!J463 -> 6.66 | H34: =TRUNC(G34 * (1 + 28.82 / 100), 2) -> 8.57 | I34: =TRUNC(F34 * H34, 2) -> 77.13 | J34: =TRUNC(F34*G34,2) -> 59.94
A35: 9.4 | B35: 87543 | C35: SINAPI | D35: Reboco para paredes internas, externas, vigas, traço 1:4,5 - espessura 1,5 cm | E35: m² | F35: ='MEMORIA DE CÁLCULO ADITIVOS'!F53 -> 320.66 | G35: =CPU!J477 -> 25.79 | H35: =TRUNC(G35 * (1 + 28.82 / 100), 2) -> 33.22 | I35: =TRUNC(F35 * H35, 2) -> 10652.32 | J35: =TRUNC(F35*G35,2) -> 8269.82
A36: 9.5 | B36: 87543 | C36: SINAPI | D36: Reboco de teto, com argamassa traço - 1:2 (cal / areia fina), espessura 1 cm | E36: m² | F36: ='MEMORIA DE CÁLCULO ADITIVOS'!F55 -> 9 | G36: =CPU!J484 -> 25.79 | H36: =TRUNC(G36 * (1 + 28.82 / 100), 2) -> 33.22 | I36: =TRUNC(F36 * H36, 2) -> 298.98 | J36: =TRUNC(F36*G36,2) -> 232.11
A37: 10 | D37: SISTEMAS DE PISOS | I37: =I38 -> 6211.52 | J37: =TRUNC(F37*G37,2) -> 0
A38: 10.1 | D38: PAVIMENTAÇÃO INTERNA | I38: =SUM(I39:I39) -> 6211.52 | J38: =TRUNC(F38*G38,2) -> 0
A39: 10.1.3 | B39: 98679 | C39: SINAPI | D39: Piso cimentado desempenado com acabamento liso e=2,0cm com junta plastica acabada 1,2m | E39: m² | F39: ='MEMORIA DE CÁLCULO ADITIVOS'!F59 -> 112 | G39: =CPU!J537 -> 43.06 | H39: =TRUNC(G39 * (1 + 28.82 / 100), 2) -> 55.46 | I39: =TRUNC(F39 * H39, 2) -> 6211.52 | J39: =TRUNC(F39*G39,2) -> 4822.72
A40: 11 | D40: PINTURAS E ACABAMENTOS | I40: =SUM(I41:I45) -> 12759.06 | J40: =TRUNC(F40*G40,2) -> 0
A41: 11.1 | B41: 96132 | C41: SINAPI | D41: Emassamento de paredes internas com massa PVA, 2 demãos | E41: m² | F41: ='MEMORIA DE CÁLCULO ADITIVOS'!F62 -> 174.6 | G41: =CPU!J590 -> 17.04 | H41: =TRUNC(G41 * (1 + 28.82 / 100), 2) -> 21.95 | I41: =TRUNC(F41 * H41, 2) -> 3832.47 | J41: =TRUNC(F41*G41,2) -> 2975.18
...

Sheet CPU
A2: Composições Analíticas com Preço Unitário | E2: Bancos | G2: B.D.I. | I2: Encargos Sociais
A3: =ORCAMENTO!A3 -> CONCLUSÃO EMEIF "CAETÉ" | E3: =ORCAMENTO!C3 -> SINAPI - 02/2023 - Pará | G3: =ORCAMENTO!D3 -> 0.2882 | I3: =ORCAMENTO!E3 -> Desonerado: 0,00%
A4: Composições Analíticas com Preço Unitário
A5: Composições Principais
A6: 1.1 | B6: Código | C6: Banco | D6: Descrição | E6: Tipo | G6: Und | H6: Quant. | I6: Valor Unit | J6: Total
A7: Composição | B7: 74209/001 | C7: SINAPI | D7: Placa da obra em chapa de aço galvanizado, Padrão Governo Federal | E7: CANT - CANTEIRO DE OBRAS | G7: m² | H7: 1 | I7: 393.07 | J7: 393.07
A8: Composição Auxiliar | B8: 88262 | C8: SINAPI | D8: CARPINTEIRO DE FORMAS COM ENCARGOS COMPLEMENTARES | E8: SEDI - SERVIÇOS DIVERSOS | G8: H | H8: 1 | I8: 23.48 | J8: 23.48
A9: Composição Auxiliar | B9: 88316 | C9: SINAPI | D9: SERVENTE COM ENCARGOS COMPLEMENTARES | E9: SEDI - SERVIÇOS DIVERSOS | G9: H | H9: 2 | I9: 19.11 | J9: 38.22
A10: Composição Auxiliar | B10: 94962 | C10: SINAPI | D10: CONCRETO MAGRO PARA LASTRO, TRAÇO 1:4,5:4,5 (CIMENTO/ AREIA MÉDIA/ BRITA 1) - PREPARO MECÂNICO COM BETONEIRA 400 L. AF_07/2016 | E10: FUES - FUNDAÇÕES E ESTRUTURAS | G10: m³ | H10: 0.01 | I10: 529.98 | J10: 5.29
A11: Insumo | B11: 00004417 | C11: SINAPI | D11: SARRAFO DE MADEIRA NAO APARELHADA *2,5 X 7* CM, MACARANDUBA, ANGELIM OU EQUIVALENTE DA REGIAO | E11: Material | G11: M | H11: 1 | I11: 6.76 | J11: 6.76
A12: Insumo | B12: 00004491 | C12: SINAPI | D12: PONTALETE DE MADEIRA NAO APARELHADA *7,5 X 7,5* CM (3 X 3 ") PINUS, MISTA OU EQUIVALENTE DA REGIAO | E12: Material | G12: M | H12: 4 | I12: 10.81 | J12: 43.24
A13: Insumo | B13: 00004813 | C13: SINAPI | D13: PLACA DE OBRA (PARA CONSTRUCAO CIVIL) EM CHAPA GALVANIZADA *N. 22*, ADESIVADA, DE *2,0 X 1,125* M | E13: Material | G13: m² | H13: 1 | I13: 273.51 | J13: 273.51
A14: Insumo | B14: 00005075 | C14: SINAPI | D14: PREGO DE ACO POLIDO COM CABECA 18 X 30 (2 3/4 X 10) | E14: Material | G14: KG | H14: 0.11 | I14: 23.45 | J14: 2.57
E15: MO sem LS => | F15: 40.78 | G15: LS => | H15: 0 | I15: MO com LS => | J15: 40.78
E16: Valor do BDI => | F16: 113.28 | H16: Valor com BDI => | J16: 506.35
A17: 1.2 | B17: Código | C17: Banco | D17: Descrição | E17: Tipo | G17: Und | H17: Quant. | I17: Valor Unit | J17: Total
A18: Composição | B18: 93584 | C18: SINAPI | D18: Barracão provisório para deposito | E18: CANT - CANTEIRO DE OBRAS | G18: m² | H18: 1 | I18: 892.71 | J18: 892.71
A19: Composição Auxiliar | B19: 101165 | C19: SINAPI | D19: ALVENARIA DE EMBASAMENTO COM BLOCO ESTRUTURAL DE CONCRETO, DE 14X19X29CM E ARGAMASSA DE ASSENTAMENTO COM PREPARO EM BETONEIRA. AF_05/2020 | E19: FUES - FUNDAÇÕES E ESTRUTURAS | G19: m³ | H19: 0.0417 | I19: 968 | J19: 40.36
A20: Composição Auxiliar | B20: 88489 | C20: SINAPI | D20: APLICAÇÃO MANUAL DE PINTURA COM TINTA LÁTEX ACRÍLICA EM PAREDES, DUAS DEMÃOS. AF_06/2014 | E20: PINT - PINTURAS | G20: m² | H20: 5.0649 | I20: 16.93 | J20: 85.74
A21: Composição Auxiliar | B21: 91170 | C21: SINAPI | D21: FIXAÇÃO DE TUBOS HORIZONTAIS DE PVC, CPVC OU COBRE DIÂMETROS MENORES OU IGUAIS A 40 MM OU ELETROCALHAS ATÉ 150MM DE LARGURA, COM ABRAÇADEIRA METÁLICA RÍGIDA TIPO D 1/2, FIXADA EM PERFILADO EM LAJE. AF_05/2015 | E21: INHI - INSTALAÇÕES HIDROS SANITÁRIAS | G21: M | H21: 0.1325 | I21: 2.92 | J21: 0.38
A22: Composição Auxiliar | B22: 91173 | C22: SINAPI | D22: FIXAÇÃO DE TUBOS VERTICAIS DE PPR DIÂMETROS MENORES OU IGUAIS A 40 MM COM ABRAÇADEIRA METÁLICA RÍGIDA TIPO D 1/2", FIXADA EM PERFILADO EM ALVENARIA. AF_05/2015 | E22: INHI - INSTALAÇÕES HIDROS SANITÁRIAS | G22: M | H22: 0.1722 | I22: 1.48 | J22: 0.25
A23: Composição Auxiliar | B23: 91341 | C23: SINAPI | D23: PORTA EM ALUMÍNIO DE ABRIR TIPO VENEZIANA COM GUARNIÇÃO, FIXAÇÃO COM PARAFUSOS - FORNECIMENTO E INSTALAÇÃO. AF_12/2019 | E23: ESQV - ESQUADRIAS/FERRAGENS/VIDROS | G23: m² | H23: 0.153 | I23: 457.96 | J23: 70.06
A24: Composição Auxiliar | B24: 91852 | C24: SINAPI | D24: ELETRODUTO FLEXÍVEL CORRUGADO, PVC, DN 20 MM (1/2"), PARA CIRCUITOS TERMINAIS, INSTALADO EM PAREDE - FORNECIMENTO E INSTALAÇÃO. AF_12/2015 | E24: INEL - INSTALAÇÃO ELÉTRICA/ELETRIFICAÇÃO E ILUMINAÇÃO EXTERNA | G24: M | H24: 0.0662 | I24: 8.27 | J24: 0.54
A25: Composição Auxiliar | B25: 91862 | C25: SINAPI | D25: ELETRODUTO RÍGIDO ROSCÁVEL, PVC, DN 20 MM (1/2"), PARA CIRCUITOS TERMINAIS, INSTALADO EM FORRO - FORNECIMENTO E INSTALAÇÃO. AF_12/2015 | E25: INEL - INSTALAÇÃO ELÉTRICA/ELETRIFICAÇÃO E ILUMINAÇÃO EXTERNA | G25: M | H25: 0.1325 | I25: 10.1 | J25: 1.33
A26: Composição Auxiliar | B26: 91870 | C26: SINAPI | D26: ELETRODUTO RÍGIDO ROSCÁVEL, PVC, DN 20 MM (1/2"), PARA CIRCUITOS TERMINAIS, INSTALADO EM PAREDE - FORNECIMENTO E INSTALAÇÃO. AF_12/2015 | E26: INEL - INSTALAÇÃO ELÉTRICA/ELETRIFICAÇÃO E ILUMINAÇÃO EXTERNA | G26: M | H26: 0.1722 | I26: 11.01 | J26: 1.89
A27: Composição Auxiliar | B27: 91924 | C27: SINAPI | D27: CABO DE COBRE FLEXÍVEL ISOLADO, 1,5 MM², ANTI-CHAMA 450/750 V, PARA CIRCUITOS TERMINAIS - FORNECIMENTO E INSTALAÇÃO. AF_12/2015 | E27: INEL - INSTALAÇÃO ELÉTRICA/ELETRIFICAÇÃO E ILUMINAÇÃO EXTERNA | G27: M | H27: 0.6755 | I27: 2.82 | J27: 1.9
A28: Composição Auxiliar | B28: 92023 | C28: SINAPI | D28: INTERRUPTOR SIMPLES (1 MÓDULO) COM 1 TOMADA DE EMBUTIR 2P+T 10 A, INCLUINDO SUPORTE E PLACA - FORNECIMENTO E INSTALAÇÃO. AF_12/2015 | E28: INEL - INSTALAÇÃO ELÉTRICA/ELETRIFICAÇÃO E ILUMINAÇÃO EXTERNA | G28: UN | H28: 0.0662 | I28: 42.86 | J28: 2.83
A29: Composição Auxiliar | B29: 92543 | C29: SINAPI | D29: TRAMA DE MADEIRA COMPOSTA POR TERÇAS PARA TELHADOS DE ATÉ 2 ÁGUAS PARA TELHA ONDULADA DE FIBROCIMENTO, METÁLICA, PLÁSTICA OU TERMOACÚSTICA, INCLUSO TRANSPORTE VERTICAL. AF_07/2019 | E29: COBE - COBERTURA | G29: m² | H29: 1.7192 | I29: 21.63 | J29: 37.18
... A42: Insumo | B42: 00011455 | C42: SINAPI | D42: FECHO / TRINCO / FERROLHO FIO REDONDO, DE SOBREPOR, 8", EM ACO GALVANIZADO / ZINCADO | E42: Material | G42: UN | H42: 0.0662 | I42: 18.24 | J42: 1.2
E43: MO sem LS => | F43: 131.34 | G43: LS => | H43: 0 | I43: MO com LS => | J43: 131.34
E44: Valor do BDI => | F44: 257.27 | H44: Valor com BDI => | J44: 1156.39
A45: 1.3 | B45: Código | C45: Banco | D45: Descrição | E45: Tipo | G45: Und | H45: Quant. | I45: Valor Unit | J45: Total
A46: Composição | B46: 00000144 | C46: Próprio | D46: Mobilização e Desmobilização de pessoal e equipamentos | E46: SEDOP | G46: UN | H46: 1 | I46: 49730 | J46: 49730
A47: Insumo | B47: 00000076 | C47: Próprio | D47: Transporte fluvial de pessoal, materiais e insumos, inclusíve carga e descarga | E47: Equipamento | G47: T/km | H47: 100 | I47: 497.3 | J47: 49730
E48: MO sem LS => | F48: 0 | G48: LS => | H48: 0 | I48: MO com LS => | J48: 0
E49: Valor do BDI => | F49: 14332.18 | H49: Valor com BDI => | J49: 64062.18
A50: 1.4 | B50: Código | C50: Banco | D50: Descrição | E50: Tipo | G50: Und | H50: Quant. | I50: Valor Unit | J50: Total
A51: Composição | B51: 00000001 | C51: Próprio | D51: Administração Local | E51: SERT - SERVIÇOS TÉCNICOS | G51: MÊS | H51: 1 | I51: 8171.23 | J51: 8171.23
A52: Insumo | B52: 40811 | C52: SEDOP | D52: ENGENHEIRO CIVIL DE OBRA JUNIOR (MENSALISTA) | E52: Mão de Obra | G52: Mês | H52: 0.2 | I52: 16359.72 | J52: 3271.94
A53: Insumo | B53: 40819 | C53: SEDOP | D53: MESTRE DE OBRAS (MENSALISTA) | E53: Mão de Obra | G53: Mês | H53: 1 | I53: 4899.29 | J53: 4899.29
...

Sheet CRONOGRAMA
A2: Obra | C2: Bancos | F2: B.D.I. | H2: Encargos Sociais
A3: =ORCAMENTO!A3 -> CONCLUSÃO EMEIF "CAETÉ" | C3: =ORCAMENTO!C3 -> SINAPI - 02/2023 - Pará | F3: 28,82% | H3: =ORCAMENTO!E3 -> Desonerado: 0,00%
A4: Cronograma Físico e Financeiro
A5: Item | B5: Descrição | C5: Total Por Etapa | D5: 30 DIAS | E5: 60 DIAS | F5: 90 DIAS | G5: 120 DIAS | H5: 150 DIAS | I5: 180 DIAS
A6: 1 | B6: =ORCAMENTO!#REF! -> #REF! | C6: 1 | D6: 0.3 | E6: 0.14 | F6: 0.14 | G6: 0.14 | H6: 0.14 | I6: 0.14
C7: =ORCAMENTO!#REF! -> #REF! | D7: =C7-E7-F7-G7-H7-I7 -> #REF! | E7: =TRUNC(C7*E6,2) -> #REF! | F7: =TRUNC(C7*F6,2) -> #REF! | G7: =TRUNC(C7*G6,2) -> #REF! | H7: =TRUNC(C7*H6,2) -> #REF! | I7: =TRUNC(C7*I6,2) -> #REF!
A8: 2 | B8: =ORCAMENTO!B6 -> MOVIMENTO DE TERRAS PARA FUNDAÇÕES | C8: 1 | D8: 1
C9: =ORCAMENTO!E6 -> 1752.66 | D9: =TRUNC(C9*D8,2) -> 1752.66
A10: 3 | B10: =ORCAMENTO!B7 -> FUNDAÇÕES | C10: 1 | D10: 1
C11: =ORCAMENTO!E7 -> 139815.83 | D11: =TRUNC(C11*D10,2) -> 139815.83
A12: 4 | B12: =ORCAMENTO!B8 -> SUPERESTRUTURA | C12: 1 | D12: 0.25 | E12: 0.5 | F12: 0.25
C13: =ORCAMENTO!E8 -> 61042.95 | D13: =TRUNC(C13*D12,2) -> 15260.73 | E13: =C13-D13-F13 -> 30521.49 | F13: =TRUNC(C13*F12,2) -> 15260.73
A14: 5 | B14: =ORCAMENTO!B9 -> SISTEMA DE VEDAÇÃO VERTICAL | C14: 1 | F14: 0.5 | G14: 0.5
C15: =ORCAMENTO!E9 -> 2692.8 | F15: =TRUNC(C15*F14,2) -> 1346.4 | G15: =C15-F15 -> 1346.4
A16: 6 | B16: =ORCAMENTO!B10 -> ESQUADRIAS | C16: 1 | E16: 0.25 | F16: 0.25 | G16: 0.5
C17: =ORCAMENTO!E10 -> 37852.44 | E17: =TRUNC(C17*E16,2) -> 9463.11 | F17: =TRUNC(C17*F16,2) -> 9463.11 | G17: =C17-E17-F17 -> 18926.22
A18: 7 | B18: =ORCAMENTO!B11 -> SISTEMAS DE COBERTURA | C18: 1 | E18: 0.25 | F18: 0.5 | G18: 0.25
C19: =ORCAMENTO!E11 -> 70102.87 | E19: =TRUNC(C19*E18,2) -> 17525.71 | F19: =C19-E19-G19 -> 35051.45 | G19: =TRUNC(C19*G18,2) -> 17525.71
A20: 8 | B20: =ORCAMENTO!B12 -> IMPERMEABILIZAÇÃO | C20: 1 | G20: 1
C21: =ORCAMENTO!E12 -> 736.2 | G21: =C21 -> 736.2
A22: 9 | B22: =ORCAMENTO!B13 -> REVESTIMENTOS INTERNOS E EXTERNOS | C22: 1 | F22: 0.25 | G22: 0.5 | H22: 0.25
C23: =ORCAMENTO!E13 -> 13154.4 | F23: =TRUNC(C23*F22,2) -> 3288.6 | G23: =C23-F23-H23 -> 6577.2 | H23: =TRUNC(C23*H22,2) -> 3288.6
A24: 10 | B24: =ORCAMENTO!B14 -> SISTEMAS DE PISOS | C24: 1 | F24: 0.25 | G24: 0.25 | H24: 0.25 | I24: 0.25
C25: =ORCAMENTO!E14 -> 6211.52 | F25: =TRUNC(C25*F24,2) -> 1552.88 | G25: =TRUNC(C25*G24,2) -> 1552.88 | H25: =TRUNC(C25*H24,2) -> 1552.88 | I25: =C25-F25-G25-H25 -> 1552.88
A26: 11 | B26: =ORCAMENTO!B15 -> PINTURAS E ACABAMENTOS | C26: 1 | G26: 0.25 | H26: 0.5 | I26: 0.25
C27: =ORCAMENTO!E15 -> 12759.06 | G27: =TRUNC(C27*G26,2) -> 3189.76 | H27: =C27-G27-I27 -> 6379.54 | I27: =TRUNC(C27*I26,2) -> 3189.76
A28: 12 | B28: =ORCAMENTO!B16 -> INSTALAÇÕES HIDRÁULICAS | C28: 1 | G28: 1
C29: =ORCAMENTO!E16 -> 47234.88 | G29: =C29 -> 47234.88
A30: 13 | B30: =ORCAMENTO!#REF! -> #REF! | C30: 1 | G30: 0.5 | H30: 0.5
C31: =ORCAMENTO!#REF! -> #REF! | G31: =TRUNC(C31*G30,2) -> #REF! | H31: =C31-G31 -> #REF!
A32: 14 | B32: =ORCAMENTO!#REF! -> #REF! | C32: 1 | G32: 0.5 | H32: 0.5
C33: =ORCAMENTO!#REF! -> #REF! | G33: =TRUNC(C33*G32,2) -> #REF! | H33: =C33-G33 -> #REF!
A34: 15 | B34: =ORCAMENTO!B17 -> SISTEMA DE PROTEÇÃO CONTRA INCÊNCIO | C34: 1 | I34: 1
C35: =ORCAMENTO!E17 -> 357.92 | I35: =C35 -> 357.92
A36: 16 | B36: =ORCAMENTO!B18 -> INSTALAÇÕES ELÉTRICAS | C36: 1 | F36: 0.25 | G36: 0.25 | H36: 0.25 | I36: 0.25
C37: =ORCAMENTO!E18 -> 31025.6 | F37: =TRUNC(C37*F36,2) -> 7756.4 | G37: =TRUNC(C37*G36,2) -> 7756.4 | H37: =TRUNC(C37*H36,2) -> 7756.4 | I37: =C37-F37-G37-H37 -> 7756.4
A38: 17 | B38: =ORCAMENTO!#REF! -> #REF! | C38: 1 | E38: 0.25 | F38: 0.25 | G38: 0.25 | H38: 0.25
C39: =ORCAMENTO!#REF! -> #REF! | E39: =TRUNC(C39*E38,2) -> #REF! | F39: =TRUNC(C39*F38,2) -> #REF! | G39: =TRUNC(C39*G38,2) -> #REF! | H39: =C39-E39-F39-G39 -> #REF!
A40: 18 | B40: =ORCAMENTO!#REF! -> #REF! | C40: 1 | H40: 0.5 | I40: 0.5
C41: =ORCAMENTO!#REF! -> #REF! | H41: =TRUNC(C41*H40,2) -> #REF! | I41: =C41-H41 -> #REF!
...

Sheet QUANTIDADES
A2: Obra
A3: =ORCAMENTO!A3 -> CONCLUSÃO EMEIF "CAETÉ"
A4: Memória de Cálculo
A5: Item | B5: Descrição | C5: Und | D5: Quant.
A6: 2 | B6: MOVIMENTO DE TERRAS PARA FUNDAÇÕES
A7: 2.1 | B7: Escavação mecanizada de valas em qualquer terreno até h=2,0 m | C7: m³ | D7: 30
A8: 3 | B8: FUNDAÇÕES
A9: 3.1 | B9: CONCRETO ARMADO PARA FUNDAÇÕES - BASE CAIXA D´ÁGUA
A10: 3.1.1 | B10: Forma de madeira em tábuas para fundações, com reaproveitamento | C10: m² | D10: 5.6
A11: 3.1.2 | B11: Armação de aço CA-50 Ø 10mm; incluso fornecimento, corte, dobra e colocação | C11: KG | D11: 325
A12: 3.1.3 | B12: Armação de aço CA-60 Ø 5,0mm; incluso fornecimento, corte, dobra e colocação | C12: KG | D12: 82
A13: 3.1.4 | B13: Concreto Bombeado fck= 25MPa; incluindo preparo, lançamento e adensamento | C13: m³ | D13: 3.92
A14: 3.1.5 | B14: Estaca escavada mecanicamente com 30 cm de diametro, sem armação | C14: M | D14: 63
A15: 4 | B15: SUPERESTRUTURA
A16: 4.1 | B16: VIGAS DE COBERTURA
A17: 4.1.1 | B17: COMPOSIÇÃO PARAMÉTRICA PARA EXECUÇÃO DE ESCADA EM CONCRETO ARMADO, MOLDADA IN LOCO, FCK = 25 MPA. AF_11/2022 | C17: m³ | D17: 5.8
A18: 4.2 | B18: CONCRETO ARMADO - LAJES DE FORRO
A19: 4.2.1 | B19: Laje pré-moldada para forro | C19: m² | D19: 375
A20: 5 | B20: SISTEMA DE VEDAÇÃO VERTICAL
A21: 5.1 | B21: Alvenaria de vedação de 1/2 vez em tijolos cerâmicos (dimensões nominais: 39x19x09); assentamento em argamassa no traço 1:2:8 (cimento, cal e areia) | C21: m² | D21: 319.9105
A22: 5.2 | B22: Divisória de banheiros e sanitários em granito com espessura de 2cm polido assentado com argamassa traço 1:4 | C22: m² | D22: 12.92
A23: 6 | B23: ESQUADRIAS
A24: 6.1 | B24: PORTAS DE MADEIRA
A25: 6.1.1 | B25: PM1 - Porta de abrir em madeira para pintura 0,80x2,10m, espessura 3,5cm, incluso dobradiças, batentes e fechadura | C25: UN | D25: 7
A26: 6.1.2 | B26: PM2 - Porta de madeira com visor para pintura, semi-oca (leve ou média), dimensões 80x210cm, espessura 3,5cm; incluso dobradiças, batentes e fechadura | C26: UN | D26: 7
A27: 6.1.3 | B27: PM3- Porta de abrir em madeira para pintura 0,80x2,10m, espessura 3,5cm, incluso dobradiças, batentes e fechadura | C27: UN | D27: 2
A28: 6.1.4 | B28: PM4- Porta de abrir em madeira para pintura 0,60x2,10m, espessura 3,5cm, com veneziana 0,50x0,40m conforme projeto, incluso dobradiças, batentes e fechadura | C28: UN | D28: 1
A29: 6.1.5 | B29: PM5- Porta de abrir em madeira para pintura 0,80x2,10m, espessura 3,5cm, com veneziana 0,50x0,40m conforme projeto, incluso dobradiças, batentes e fechadura | C29: UN | D29: 3
A30: 6.1.6 | B30: PM6- Porta de abrir em alumínio para box banheiro, 0,60x1,60m, incluso marco e dobradiças | C30: m² | D30: 2.88
A31: 6.1.7 | B31: PM7- Porta de abrir em alumínio para box banheiro, 0,80x1,60m, incluso marco e dobradiças | C31: m² | D31: 2.56
A32: 6.2 | B32: FERRAGENS E ACESSÓRIOS
A33: 6.2.1 | B33: Barra de apoio 40 cm, aço inox polido, Deca ou equivalente - PM7 | C33: UN | D33: 2
A34: 6.2.2 | B34: Fechadura de embutir completa, tipo tarjeta livre-ocupado | C34: UN | D34: 5
A35: 6.2.3 | B35: Chapa de alumínio corrugada e=0,7mm - referência ORSE (9076) | C35: m² | D35: 2.88
A36: 6.3 | B36: PORTAS DE ALUMÍNIO
A37: 6.3.1 | B37: PA1 - Porta em alumínio de abrir de 0,80x2,10m com divisão horizontal para vidro e veneziana, conforme projeto de esquadrias, incluso dobradiças, batentes, fechadura e vidro mini boreal | C37: m² | D37: 1.68
A38: 6.4 | B38: JANELAS DE ALUMÍNIO
A39: 6.4.1 | B39: JA-1 -Janela de Alumínio, basculante 60x40cm, conforme projeto de esquadrias, inclusive ferragens e vidro liso incolor, espessura 6mm | C39: m² | D39: 0.24
A40: 6.4.2 | B40: JA-2 -Janela de Alumínio, de abrir 60x90cm, conforme projeto de esquadrias, inclusive ferragens e vidro liso incolor, espessura 6mm | C40: m² | D40: 1.08
A41: 6.4.3 | B41: JA-3 -Janela de Alumínio, basculante 100x40cm, conforme projeto de esquadrias, inclusive ferragens e vidro miniboreal, espessura 6mm | C41: m² | D41: 3.2
...

Sheet ENCARGOS
A2: ENCARGOS SOCIAIS SOBRE MÃO DE OBRA
A4: OBRA | B4: =ORCAMENTO!A3 -> CONCLUSÃO EMEIF "CAETÉ" | C4: COM DESONERAÇÃO
A5: CÓDIGO | B5: DESCRIÇÃO | C5: HORISTA % | E5: MENSALISTA
A7: GRUPO A
A8: A1 | B8: INSS | C8: 0 | E8: =C8 -> 0
A9: A2 | B9: SESI | C9: 0.015 | E9: =C9 -> 0.015
A10: A3 | B10: SENAI | C10: 0.01 | E10: =C10 -> 0.01
A11: A4 | B11: INCRA | C11: 0.002 | E11: =C11 -> 0.002
A12: A5 | B12: SEBRAE | C12: 0.006 | E12: =C12 -> 0.006
A13: A6 | B13: Salário Educação | C13: 0.025 | E13: =C13 -> 0.025
A14: A7 | B14: Seguro Contra Acidentes de Trabalho | C14: 0.03 | E14: =C14 -> 0.03
A15: A8 | B15: FGTS | C15: 0.08 | E15: =C15 -> 0.08
A16: A9 | B16: SECONCI | C16: 0 | E16: =C16 -> 0
A17: A | B17: TOTAL | C17: =SUM(C8:D16) -> 0.168 | E17: =SUM(E8:F16) -> 0.168
A19: GRUPO B
A20: B1 | B20: Repouso Semanal Remunerado | C20: 0.1811 | E20: Não incide
A21: B2 | B21: Feriados | C21: 0.0415 | E21: Não Incide
A22: B3 | B22: Auxilio - Enfermidade | C22: 0.0089 | E22: 0.0067
A23: B4 | B23: 13º Salário | C23: 0.1098 | E23: 0.0833
A24: B5 | B24: Licença Paternidade | C24: 0.0007 | E24: 0.0006
A25: B6 | B25: Faltas Justificadas | C25: 0.0073 | E25: 0.0056
A26: B7 | B26: Dias de Chuva | C26: 0.0268 | E26: Não incide
A27: B8 | B27: Auxílio Acidentes de Trabalho | C27: 0.0011 | E27: 0.0008
A28: B9 | B28: Férias Gozadas | C28: 0.0927 | E28: 0.0703
A29: B10 | B29: Salário maternidade | C29: 0.0003 | E29: =C29 -> 0.0003
A30: B | B30: TOTAL | C30: =SUM(C20:D29) -> 0.4702 | E30: =SUM(E20:F29) -> 0.1676
A32: GRUPO C
A33: C1 | B33: Avíso Prevéo Indenizado | C33: 0.0569 | E33: 0.0432
A34: C2 | B34: Avíso préveo trabalhado | C34: 0.0013 | E34: 0.001
A35: C3 | B35: Férias Indenizadas | C35: 0.0447 | E35: 0.0339
A36: C4 | B36: Depósito rescizão Sem Justa Causa | C36: 0.0393 | E36: 0.0298
A37: C5 | B37: Indenização Adicional | C37: 0.0048 | E37: 0.0036
A38: C | B38: TOTAL | C38: =SUM(C33:D37) -> 0.147 | E38: =SUM(E33:F37) -> 0.1115
A40: GRUPO D
A41: D1 | B41: Reincidência de Grupo A sobre Grupo B | C41: 0.079 | E41: 0.0282
A42: D2 | B42: Reincidência de Grupo A sobre Avíso Prévio Trabalhado e Reincidência Sobre do FGTS sobre Avíso Prévio Indenizado | C42: 0.0048 | E42: 0.0036
A43: D | B43: TOTAL | C43: =SUM(C41:D42) -> 0.0838 | E43: =SUM(E41:F42) -> 0.0318
B45: TOTAL (A + B + C + D) | C45: =C30+C38+C43+C17 -> 0.869 | E45: =E30+E38+E43+E17 -> 0.4789
B47: =ORCAMENTO!B21 -> ANANINDEUA(PA), 16 DE JUNHO DE 2025
B49: =ORCAMENTO!B25 -> RIOL - Serviços de Construções LTDA.
...

Sheet BDI
S1: ALTERNATIVAS | U1: SELECIONADO | V1: 1
S2: 1 | T2: COM DESONERAÇÃO
A3: OBRA: | B3: =ORCAMENTO!A3 -> CONCLUSÃO EMEIF "CAETÉ" | S3: 2 | T3: SEM DESONERAÇÃO
N5: LIMITES DE BDI | S5: OBRA TIPO | U5: SELECIONADO | V5: 1
B6: Declaro, para os devidos fins, que a alternativa de incidência da contribuição previdênciária | M6: OBRA TIPO | N6: Alternativa | Q6: =V1 -> 1 | S6: 1 | T6: Construção de edifícios. | V6: 1
A7: sobre folha de pagamento para a planilha orçamentária do presente Projeto Básico de Engenharia foi | O7: 1º Quartil | P7: Médio | Q7: 2º Quartil | S7: 2 | T7: Construção de rodovias e ferrovias.
B8: =IF(AND(V1<>1,V1<>2),"SELECT OPT",IF(V1=1,"COM DESONERAÇÃO",IF(V1=2,"SEM DESONERAÇÃO","SELECT OPT"))) -> COM DESONERAÇÃO | D8: , pois tornou-se a mais vantajosa para esta Adminisção Pública, | N8: 1 | O8: =IF($V$1=1,((((((20.34/100)+1)*(1-(5.15/100)))/(1-(9.65/100)))-1)*100),IF($V$1=2,20.34,"SELECT OPT")) -> 26.333691 | P8: =IF($V$1=1,((((((22.12/100)+1)*(1-(6.65/100)))/(1-(11.15/100)))-1)*100),IF($V$1=2,22.12,"SELECT OPT")) -> 28.305031 | Q8: =IF($V$1=1,((((((25/100)+1)*(1-(8.65/100)))/(1-(13.15/100)))-1)*100),IF($V$1=2,25,"SELECT OPT")) -> 31.476684 | S8: 3 | T8: Saneamento básico.
A9: uma vez que a meta estipulada alcançou uma maior área a ser beneficiada. | N9: 2 | O9: =IF($V$1=1,((((((19.6/100)+1)*(1-(5.15/100)))/(1-(9.65/100)))-1)*100),IF($V$1=2,19.6,"SELECT OPT")) -> 25.556835 | P9: =IF($V$1=1,((((((20.97/100)+1)*(1-(6.65/100)))/(1-(11.15/100)))-1)*100),IF($V$1=2,20.97,"SELECT OPT")) -> 27.096787 | Q9: =IF($V$1=1,((((((24.23/100)+1)*(1-(8.65/100)))/(1-(13.15/100)))-1)*100),IF($V$1=2,24.23,"SELECT OPT")) -> 30.666788 | S9: 4 | T9: Estações e redes de energia.
N10: 3 | O10: =IF($V$1=1,((((((20.76/100)+1)*(1-(5.15/100)))/(1-(9.65/100)))-1)*100),IF($V$1=2,20.76,"SELECT OPT")) -> 26.77461 | P10: =IF($V$1=1,((((((24.18/100)+1)*(1-(6.65/100)))/(1-(11.15/100)))-1)*100),IF($V$1=2,24.18,"SELECT OPT")) -> 30.469364 | Q10: =IF($V$1=1,((((((26.44/100)+1)*(1-(8.65/100)))/(1-(13.15/100)))-1)*100),IF($V$1=2,26.44,"SELECT OPT")) -> 32.991295 | S10: 5 | T10: Obras portuárias, marítmas e fluviais.
B11: Em ambas planilhas orçamentárias, no cálculo do BDI adotado, foram utilizados os | N11: 4 | O11: =IF($V$1=1,((((((24/100)+1)*(1-(5.15/100)))/(1-(9.65/100)))-1)*100),IF($V$1=2,24,"SELECT OPT")) -> 30.175982 | P11: =IF($V$1=1,((((((25.84/100)+1)*(1-(6.65/100)))/(1-(11.15/100)))-1)*100),IF($V$1=2,25.84,"SELECT OPT")) -> 32.213438 | Q11: =IF($V$1=1,((((((27.86/100)+1)*(1-(8.65/100)))/(1-(13.15/100)))-1)*100),IF($V$1=2,27.86,"SELECT OPT")) -> 34.48487 | S11: 6 | T11: Fornecimento de materiais e equipamentos.
A12: mesmos valores de seus componentes e, ainda, declaro que os percentuais relativos aos impostos | N12: 5 | O12: =IF($V$1=1,((((((22.8/100)+1)*(1-(5.15/100)))/(1-(9.65/100)))-1)*100),IF($V$1=2,22.8,"SELECT OPT")) -> 28.916215 | P12: =IF($V$1=1,((((((27.48/100)+1)*(1-(6.65/100)))/(1-(11.15/100)))-1)*100),IF($V$1=2,27.48,"SELECT OPT")) -> 33.9365 | Q12: =IF($V$1=1,((((((30.95/100)+1)*(1-(8.65/100)))/(1-(13.15/100)))-1)*100),IF($V$1=2,30.95,"SELECT OPT")) -> 37.734974
A13: estão de acordo com o que emanam as leis pertinentes. | N13: 6 | O13: =IF($V$1=1,((((((11.1/100)+1)*(1-(3.65/100)))/(1-(8.15/100)))-1)*100),IF($V$1=2,11.1,"SELECT OPT")) -> 16.543114 | P13: =IF($V$1=1,((((((14.02/100)+1)*(1-(3.65/100)))/(1-(8.15/100)))-1)*100),IF($V$1=2,14.02,"SELECT OPT")) -> 19.606173 | Q13: =IF($V$1=1,((((((16.8/100)+1)*(1-(3.65/100)))/(1-(8.15/100)))-1)*100),IF($V$1=2,16.8,"SELECT OPT")) -> 22.522373
N14: SELECIONADO | O14: =VLOOKUP($V$5,$N$8:$Q$13,2,0) -> 26.333691 | P14: =VLOOKUP($V$5,$N$8:$Q$13,3,0) -> 28.305031 | Q14: =VLOOKUP($V$5,$N$8:$Q$13,4,0) -> 31.476684
B15: Para fins de verificação do BDI em relação aos limites definidos no Acórdão 2.622/2013
A16: do Plenário do TCU, a obra foi enquadrada como: | O16: =
C18: =IF(AND($V$5<>1,$V$5<>2,$V$5<>3,$V$5<>4,$V$5<>5,$V$5<>6),"SELECT OPT",IF($V$5=1,$T$6,IF($V$5=2,$T$7,IF($V$5=3,$T$8,IF($V$5=4,$T$9,IF($V$5=5,$T$10,IF($V$5=6,$T$11,"SELECT OPT"))))))) -> Construção de edifícios.
B20: Ademais, informo que o percentual de BDI adotado foi obtido a partir da fórmula abaixo,
A21: seguida do memorial de cálculo do índice.
A25: DESCRIÇÃO | E25: VALORES DE REFERÊNCIA | K25: BDI ADOTADO
E26: 1º Quartil | G26: Médio | I26: 2º Quartil
A27: Administração Central | D27: (AC) | E27: =IF(AND($V$5<>1,$V$5<>2,$V$5<>3,$V$5<>4,$V$5<>5,$V$5<>6),"SELECT OPT",IF($V$5=1,3,IF($V$5=2,3.8,IF($V$5=3,3.43,IF($V$5=4,5.29,IF($V$5=5,4,IF($V$5=6,1.5,"SELECT OPT"))))))) -> 3 | G27: =IF(AND($V$5<>1,$V$5<>2,$V$5<>3,$V$5<>4,$V$5<>5,$V$5<>6),"SELECT OPT",IF($V$5=1,4,IF($V$5=2,4.01,IF($V$5=3,4.93,IF($V$5=4,5.92,IF($V$5=5,5.52,IF($V$5=6,3.45,"SELECT OPT"))))))) -> 4 | I27: =IF(AND($V$5<>1,$V$5<>2,$V$5<>3,$V$5<>4,$V$5<>5,$V$5<>6),"SELECT OPT",IF($V$5=1,5.5,IF($V$5=2,4.67,IF($V$5=3,6.71,IF($V$5=4,7.93,IF($V$5=5,7.85,IF($V$5=6,4.49,"SELECT OPT"))))))) -> 5.5 | K27: 3
A28: Seguro e Garantia (*) | D28: (S e G) | E28: 0.8 | G28: =IF(AND($V$5<>1,$V$5<>2,$V$5<>3,$V$5<>4,$V$5<>5,$V$5<>6),"SELECT OPT",IF($V$5=1,0.8,IF($V$5=2,0.4,IF($V$5=3,0.49,IF($V$5=4,0.51,IF($V$5=5,1.22,IF($V$5=6,0.48,"SELECT OPT"))))))) -> 0.8 | I28: =IF(AND($V$5<>1,$V$5<>2,$V$5<>3,$V$5<>4,$V$5<>5,$V$5<>6),"SELECT OPT",IF($V$5=1,1,IF($V$5=2,0.74,IF($V$5=3,0.75,IF($V$5=4,0.56,IF($V$5=5,1.99,IF($V$5=6,0.82,"SELECT OPT"))))))) -> 1 | K28: 0.8
A29: Risco | D29: (R) | E29: =IF(AND($V$5<>1,$V$5<>2,$V$5<>3,$V$5<>4,$V$5<>5,$V$5<>6),"SELECT OPT",IF($V$5=1,0.97,IF($V$5=2,0.5,IF($V$5=3,1,IF($V$5=4,1,IF($V$5=5,1.46,IF($V$5=6,0.56,"SELECT OPT"))))))) -> 0.97 | G29: =IF(AND($V$5<>1,$V$5<>2,$V$5<>3,$V$5<>4,$V$5<>5,$V$5<>6),"SELECT OPT",IF($V$5=1,1.27,IF($V$5=2,0.56,IF($V$5=3,1.39,IF($V$5=4,1.48,IF($V$5=5,2.32,IF($V$5=6,0.85,"SELECT OPT"))))))) -> 1.27 | I29: =IF(AND($V$5<>1,$V$5<>2,$V$5<>3,$V$5<>4,$V$5<>5,$V$5<>6),"SELECT OPT",IF($V$5=1,1.27,IF($V$5=2,0.97,IF($V$5=3,1.74,IF($V$5=4,1.97,IF($V$5=5,3.16,IF($V$5=6,0.89,"SELECT OPT"))))))) -> 1.27 | K29: 0.97
A30: Despesas Financeiras | D30: (DF) | E30: =IF(AND($V$5<>1,$V$5<>2,$V$5<>3,$V$5<>4,$V$5<>5,$V$5<>6),"SELECT OPT",IF($V$5=1,0.59,IF($V$5=2,1.02,IF($V$5=3,0.94,IF($V$5=4,1.01,IF($V$5=5,0.94,IF($V$5=6,0.85,"SELECT OPT"))))))) -> 0.59 | G30: =IF(AND($V$5<>1,$V$5<>2,$V$5<>3,$V$5<>4,$V$5<>5,$V$5<>6),"SELECT OPT",IF($V$5=1,1.23,IF($V$5=2,1.11,IF($V$5=3,0.99,IF($V$5=4,1.07,IF($V$5=5,1.02,IF($V$5=6,0.85,"SELECT OPT"))))))) -> 1.23 | I30: =IF(AND($V$5<>1,$V$5<>2,$V$5<>3,$V$5<>4,$V$5<>5,$V$5<>6),"SELECT OPT",IF($V$5=1,1.39,IF($V$5=2,1.21,IF($V$5=3,1.17,IF($V$5=4,1.11,IF($V$5=5,1.33,IF($V$5=6,1.11,"SELECT OPT"))))))) -> 1.39 | K30: 0.59
A31: Lucro | D31: (L) | E31: =IF(AND($V$5<>1,$V$5<>2,$V$5<>3,$V$5<>4,$V$5<>5,$V$5<>6),"SELECT OPT",IF($V$5=1,6.16,IF($V$5=2,6.64,IF($V$5=3,6.74,IF($V$5=4,8,IF($V$5=5,7.14,IF($V$5=6,3.5,"SELECT OPT"))))))) -> 6.16 | G31: =IF(AND($V$5<>1,$V$5<>2,$V$5<>3,$V$5<>4,$V$5<>5,$V$5<>6),"SELECT OPT",IF($V$5=1,7.4,IF($V$5=2,7.3,IF($V$5=3,8.04,IF($V$5=4,8.31,IF($V$5=5,8.4,IF($V$5=6,5.11,"SELECT OPT"))))))) -> 7.4 | I31: =IF(AND($V$5<>1,$V$5<>2,$V$5<>3,$V$5<>4,$V$5<>5,$V$5<>6),"SELECT OPT",IF($V$5=1,8.96,IF($V$5=2,8.69,IF($V$5=3,9.4,IF($V$5=4,9.51,IF($V$5=5,10.43,IF($V$5=6,6.22,"SELECT OPT"))))))) -> 8.96 | K31: 6.16
A32: TRIBUTOS | D32: (I) | E32: =SUM(E33:F36) -> 9.65 | G32: =SUM(G33:H36) -> 11.15 | I32: =SUM(I33:J36) -> 13.15 | K32: =ROUND(SUM(K33:L36),2) -> 13.15
A33: COFINS | E33: 3 | G33: 3 | I33: 3 | K33: 3
A34: PIS | E34: 0.65 | G34: 0.65 | I34: 0.65 | K34: 0.65
A35: ISSQN (**) | E35: =IF(AND($V$5<>1,$V$5<>2,$V$5<>3,$V$5<>4,$V$5<>5,$V$5<>6),"SELECT OPT",IF($V$5=1,1.5,IF($V$5=2,1.5,IF($V$5=3,1.5,IF($V$5=4,1.5,IF($V$5=5,1.5,IF($V$5=6,0,"SELECT OPT"))))))) -> 1.5 | G35: =IF(AND($V$5<>1,$V$5<>2,$V$5<>3,$V$5<>4,$V$5<>5,$V$5<>6),"SELECT OPT",IF($V$5=1,3,IF($V$5=2,3,IF($V$5=3,3,IF($V$5=4,3,IF($V$5=5,3,IF($V$5=6,0,"SELECT OPT"))))))) -> 3 | I35: =IF(AND($V$5<>1,$V$5<>2,$V$5<>3,$V$5<>4,$V$5<>5,$V$5<>6),"SELECT OPT",IF($V$5=1,5,IF($V$5=2,5,IF($V$5=3,5,IF($V$5=4,5,IF($V$5=5,5,IF($V$5=6,0,"SELECT OPT"))))))) -> 5 | K35: 5
A36: CPRF | E36: =IF(V1=1,4.5,IF(V1=2,0,"")) -> 4.5 | G36: =IF(V1=1,4.5,IF(V1=2,0,"")) -> 4.5 | I36: =IF(V1=1,4.5,IF(V1=2,0,"")) -> 4.5 | K36: 4.5
A37: TOTAL | E37: =IF(AND($V$5<>1,$V$5<>2,$V$5<>3,$V$5<>4,$V$5<>5,$V$5<>6),"SELECT OPT",$O$14) -> 26.333691 | G37: =IF(AND($V$5<>1,$V$5<>2,$V$5<>3,$V$5<>4,$V$5<>5,$V$5<>6),"SELECT OPT",$P$14) -> 28.305031 | I37: =IF(AND($V$5<>1,$V$5<>2,$V$5<>3,$V$5<>4,$V$5<>5,$V$5<>6),"SELECT OPT",$Q$14) -> 31.476684 | K37: =ROUND(((((1+K27/100+K28/100+K29/100)*(1+K30/100)*(1+K31/100))/(1-K32/100))-1)*100,2) -> 28.82
A39: Notas do modelo: | C39: (*) | D39: Pode haver garantia desde que previsto no Edital da licitação e no contrato de execução.
C40: (**) | D40: Podem ser aceitos outros percentuais de ISSQN desde que devidamente embasados na legislação municipal.
B42: =ORCAMENTO!B21 -> ANANINDEUA(PA), 16 DE JUNHO DE 2025
B44: =ORCAMENTO!B25 -> RIOL - Serviços de Construções LTDA.
B45: =ORCAMENTO!B26 -> CNPJ: 09.335.585/0001-75
